Workbook

Sheet Insumos 
B1: ANEXO VIII – Modelo de Planilha de Proposta
B3: EMPRESA:
B4: CNPJ:
B5: Objeto: | C5: REGULARIZAÇÃO FUNDIÁRIA DE NÚCLEOS DIVERSOS (1.051 Matrículas)
B6: Local: | C6: Diversos locais do município
B7: BANCO DE INSUMOS
B9: Recursos Humanos | C9: Fonte | D9: Código | E9: Unid. | F9: Custo Direto (h) | G9: Fator K | H9: Preço de Venda
B10: Coordenador Geral | C10: =C14 -> SIURB Janeiro/2026 | D10: 03-25-00 | E10: hora | F10: 0 | G10: ='Fator K e TRDE'!C23 -> 1 | H10: =ROUND((F10*G10),2) -> 0
B11: Arquiteto Sênior | C11: SINAPI Abril/2026 | D11: 33953 | E11: hora | F11: 0 | G11: ='Fator K e TRDE'!C16 -> 1 | H11: =ROUND((F11*G11),2) -> 0
B12: Arquiteto Pleno | C12: =C11 -> SINAPI Abril/2026 | D12: 33952 | E12: hora | F12: 0 | G12: ='Fator K e TRDE'!C16 -> 1 | H12: =ROUND((F12*G12),2) -> 0
B13: Desenhista Projetista | C13: =C11 -> SINAPI Abril/2026 | D13: 02358 | E13: hora | F13: 0 | G13: ='Fator K e TRDE'!C16 -> 1 | H13: =ROUND((F13*G13),2) -> 0
B14: Advogado Sênior | C14: SIURB Janeiro/2026 | D14: 03-54-03 | E14: hora | F14: 0 | G14: ='Fator K e TRDE'!C23 -> 1 | H14: =ROUND((F14*G14),2) -> 0
B15: Auxiliar de Serviços Gerais | C15: =C11 -> SINAPI Abril/2026 | D15: 06121 | E15: hora | F15: 0 | G15: ='Fator K e TRDE'!C16 -> 1 | H15: =ROUND((F15*G15),2) -> 0
B16: Assistente Social Pleno | C16: =C14 -> SIURB Janeiro/2026 | D16: 03-54-11 | E16: hora | F16: 0 | G16: ='Fator K e TRDE'!C23 -> 1 | H16: =ROUND((F16*G16),2) -> 0
B17: Digitador | C17: =C14 -> SIURB Janeiro/2026 | D17: 03-43-00 | E17: hora | F17: 0 | G17: ='Fator K e TRDE'!C23 -> 1 | H17: =ROUND((F17*G17),2) -> 0
B19: Demais Insumos | C19: Fonte | D19: Código | E19: Unid. | F19: Custo Direto (h) | G19: TRDE | H19: Preço de Venda
B20: Levantamento Planialtimétrico Cadastral | C20: =C17 -> SIURB Janeiro/2026 | D20: 01-10-00 | E20: m² | F20: 0 | G20: ='Fator K e TRDE'!C28 -> 1 | H20: =ROUND((G20*F20),2) -> 0
B22: Assinatura:
B23: Responsável Técnico:
B24: CREA CAU Nº
B26: Obs. | C26: A fonte e o código indicados correspondem aos adotados pela Prefeitura para a composição do orçamento de referência; a empresa deverá apresentar suas próprias composições. A indicação fornecida tem caráter meramente referencial.
C27: Preencher as células em amarelo
C28: Utilizar arredondamento em duas casas decimais.

Sheet Fator K e TRDE
B1: ANEXO VIII – Modelo de Planilha de Proposta
B3: EMPRESA:
B4: CNPJ:
B5: Objeto: | C5: REGULARIZAÇÃO FUNDIÁRIA DE NÚCLEOS DIVERSOS (1.051 Matrículas)
B6: Local: | C6: Diversos locais do município
B8: FATOR K E TRDE
B9: MEMÓRIA DE CÁLCULO
B12: K1= | C12: 0 | D12: (Encargos sociais praticados pela empresa)
B13: K2= | C13: 0 | D13: (20%)
B14: K3= | C14: 0 | D14: (Margem de lucro)
B15: K4= | C15: 0 | D15: (Impostos: PIS=0,65%, COFINS: 3,00%, ISS: 3,00%)
B16: FATOR K= | C16: =ROUND(((1+C12+C13)*(1+C14)*(1+C15)),4) -> 1 | D16: K= (1+K1+K2)*(1+K3)*(1+K4)
B19: K1= | C19: 0 | D19: (Encargos sociais praticados pela empresa)
B20: K2= | C20: 0 | D20: (20%)
B21: K3= | C21: 0 | D21: (Margem de lucro)
B22: K4= | C22: 0 | D22: (Impostos: PIS=0,65%, COFINS: 3,00%, ISS: 3,00%)
B23: FATOR K= | C23: =ROUND(((1+C19+C20)*(1+C21)*(1+C22)),4) -> 1 | D23: K= (1+K1+K2)*(1+K3)*(1+K4)
B26: K3= | C26: 0 | D26: (Margem de lucro)
B27: K4= | C27: 0 | D27: (Impostos: PIS=0,65%, COFINS: 3,00%, ISS: 3,00%)
B28: TRDE= | C28: =ROUND(((1+C26)*(1+C27)),4) -> 1 | D28: TRDE= (1+K3)*(1+K4)
B30: Assinatura:
B31: Responsável Técnico:
B32: CREA CAU Nº

Sheet TOTAL CONSOLIDADO 17 NÚCLEOS
B1: ANEXO VIII – Modelo de Planilha de Proposta
B2: EMPRESA:
B3: CNPJ:
B4: REGULARIZAÇÃO FUNDIÁRIA DE NÚCLEOS DIVERSOS (1.051 Matrículas)
B5: PLANILHA ORÇAMENTÁRIA CONSOLIDADA
B6: TOTAL CONSOLIDADO - 17 ASSENTAMENTOS
B7: Etapa | C7: Produto | D7: Insumos | E7: Unid. | F7: Preço de Venda | G7: Quantidade | H7: Valor Parcial | I7: Subtotal por Produto
B8: ETAPA I: SUBSÍDIOS TÉCNICOS PARA A REGULARIZAÇÃO FUNDIÁRIA | C8: Produto 1: Relatório de Análise Técnica Preliminar de Núcleos Urbanos Informais | D8: ='Insumos '!B10 -> Coordenador Geral | E8: hora | F8: ='Insumos '!H10 -> 0 | G8: 125 | H8: =ROUND((F8*G8),2) -> 0 | I8: =SUM(H8:H11) -> 0
D9: ='Insumos '!B11 -> Arquiteto Sênior | E9: hora | F9: ='Insumos '!H11 -> 0 | G9: 256 | H9: =ROUND((F9*G9),2) -> 0
D10: ='Insumos '!B12 -> Arquiteto Pleno | E10: hora | F10: ='Insumos '!H12 -> 0 | G10: 320 | H10: =ROUND((F10*G10),2) -> 0
D11: ='Insumos '!B17 -> Digitador | E11: hora | F11: ='Insumos '!H17 -> 0 | G11: 256 | H11: =ROUND((F11*G11),2) -> 0
C12: Produto 2: Vistoria, Busca Documental e Relatório Fotográfico | D12: ='Insumos '!B10 -> Coordenador Geral | E12: hora | F12: ='Insumos '!H10 -> 0 | G12: 24 | H12: =ROUND((F12*G12),2) -> 0 | I12: =SUM(H12:H16) -> 0
D13: =D9 -> Arquiteto Sênior | E13: hora | F13: ='Insumos '!H11 -> 0 | G13: 40 | H13: =ROUND((F13*G13),2) -> 0
D14: ='Insumos '!B14 -> Advogado Sênior | E14: hora | F14: ='Insumos '!H14 -> 0 | G14: 72 | H14: =ROUND((F14*G14),2) -> 0
D15: =D10 -> Arquiteto Pleno | E15: hora | F15: ='Insumos '!H12 -> 0 | G15: 88 | H15: =ROUND((F15*G15),2) -> 0
D16: ='Insumos '!B15 -> Auxiliar de Serviços Gerais | E16: hora | F16: ='Insumos '!H15 -> 0 | G16: 88 | H16: =ROUND((F16*G16),2) -> 0
C17: Produto 3: Diagnóstico | D17: ='Insumos '!B10 -> Coordenador Geral | E17: hora | F17: ='Insumos '!H10 -> 0 | G17: 48 | H17: =ROUND((F17*G17),2) -> 0 | I17: =SUM(H17:H20) -> 0
D18: =D9 -> Arquiteto Sênior | E18: hora | F18: ='Insumos '!H11 -> 0 | G18: 136 | H18: =ROUND((F18*G18),2) -> 0
D19: =D14 -> Advogado Sênior | E19: hora | F19: ='Insumos '!H14 -> 0 | G19: 240 | H19: =ROUND((F19*G19),2) -> 0
D20: =D11 -> Digitador | E20: hora | F20: ='Insumos '!H17 -> 0 | G20: 160 | H20: =ROUND((F20*G20),2) -> 0
C21: Produto 4: Relatório de Levantamentos Planialtimétricos e Cadastrais | D21: ='Insumos '!B20 -> Levantamento Planialtimétrico Cadastral | E21: m² | F21: ='Insumos '!H20 -> 0 | G21: 139511.62 | H21: =ROUND((F21*G21),2) -> 0 | I21: =SUM(H21) -> 0
C22: Produto 5: Plano de Regularização | D22: ='Insumos '!B10 -> Coordenador Geral | E22: hora | F22: ='Insumos '!H10 -> 0 | G22: 36 | H22: =ROUND((F22*G22),2) -> 0 | I22: =SUM(H22:H25) -> 0
D23: =D9 -> Arquiteto Sênior | E23: hora | F23: ='Insumos '!H11 -> 0 | G23: 160 | H23: =ROUND((F23*G23),2) -> 0
D24: =D14 -> Advogado Sênior | E24: hora | F24: ='Insumos '!H14 -> 0 | G24: 220 | H24: =ROUND((F24*G24),2) -> 0
D25: =D11 -> Digitador | E25: hora | F25: ='Insumos '!H17 -> 0 | G25: 160 | H25: =ROUND((F25*G25),2) -> 0
C26: Produto 6: Relatório Consolidado de Notificações | D26: ='Insumos '!B10 -> Coordenador Geral | E26: hora | F26: ='Insumos '!H10 -> 0 | G26: 17 | H26: =ROUND((F26*G26),2) -> 0 | I26: =SUM(H26:H30) -> 0
D27: =D9 -> Arquiteto Sênior | E27: hora | F27: ='Insumos '!H11 -> 0 | G27: 40 | H27: =ROUND((F27*G27),2) -> 0
D28: =D24 -> Advogado Sênior | E28: hora | F28: ='Insumos '!H14 -> 0 | G28: 64 | H28: =ROUND((F28*G28),2) -> 0
D29: =D16 -> Auxiliar de Serviços Gerais | E29: hora | F29: ='Insumos '!H15 -> 0 | G29: 44 | H29: =ROUND((F29*G29),2) -> 0
D30: =D25 -> Digitador | E30: hora | F30: ='Insumos '!H17 -> 0 | G30: 84 | H30: =ROUND((F30*G30),2) -> 0
C31: Produto 7: Relatório de Registro de Reuniões de Entrada | D31: ='Insumos '!B10 -> Coordenador Geral | E31: hora | F31: ='Insumos '!H10 -> 0 | G31: 17 | H31: =ROUND((F31*G31),2) -> 0 | I31: =SUM(H31:H35) -> 0
D32: =D9 -> Arquiteto Sênior | E32: hora | F32: ='Insumos '!H11 -> 0 | G32: 40 | H32: =ROUND((F32*G32),2) -> 0
D33: =D28 -> Advogado Sênior | E33: hora | F33: ='Insumos '!H14 -> 0 | G33: 120 | H33: =ROUND((F33*G33),2) -> 0
D34: ='Insumos '!B16 -> Assistente Social Pleno | E34: hora | F34: ='Insumos '!H16 -> 0 | G34: 220 | H34: =ROUND((F34*G34),2) -> 0
D35: =D30 -> Digitador | E35: hora | F35: ='Insumos '!H17 -> 0 | G35: 100 | H35: =ROUND((F35*G35),2) -> 0
C36: Produto 8: Planta de Selagem e Congelamento Georreferenciados | D36: ='Insumos '!B10 -> Coordenador Geral | E36: hora | F36: ='Insumos '!H10 -> 0 | G36: 56 | H36: =ROUND((F36*G36),2) -> 0 | I36: =SUM(H36:H39) -> 0
D37: =D9 -> Arquiteto Sênior | E37: hora | F37: ='Insumos '!H11 -> 0 | G37: 200 | H37: =ROUND((F37*G37),2) -> 0
D38: ='Insumos '!B13 -> Desenhista Projetista | E38: hora | F38: ='Insumos '!H13 -> 0 | G38: 400 | H38: =ROUND((F38*G38),2) -> 0
D39: =D34 -> Assistente Social Pleno | E39: hora | F39: ='Insumos '!H16 -> 0 | G39: 800 | H39: =ROUND((F39*G39),2) -> 0
C40: Produto 9: Relatório de Cadastro de Beneficiários | D40: ='Insumos '!B10 -> Coordenador Geral | E40: hora | F40: ='Insumos '!H10 -> 0 | G40: 64 | H40: =ROUND((F40*G40),2) -> 0 | I40: =SUM(H40:H44) -> 0
...

Sheet CASSIANO RICARDO
B1: ANEXO VIII – Modelo de Planilha de Proposta
B2: EMPRESA:
B3: CNPJ:
B4: REGULARIZAÇÃO FUNDIÁRIA DE NÚCLEOS DIVERSOS (1.051 Matrículas)
B5: PLANILHA ORÇAMENTÁRIA POR NÚCLEOS
B6: CASSIANO RICARDO
B7: Etapa | C7: Produto | D7: Insumos | E7: Unid. | F7: Preço de Venda | G7: Quantidade | H7: Valor Parcial | I7: Subtotal por Produto
B8: ETAPA I: SUBSÍDIOS TÉCNICOS PARA A REGULARIZAÇÃO FUNDIÁRIA | C8: Produto 1: Relatório de Análise Técnica Preliminar de Núcleos Urbanos Informais | D8: ='Insumos '!B10 -> Coordenador Geral | E8: hora | F8: ='Insumos '!H10 -> 0 | G8: 8 | H8: =ROUND((F8*G8),2) -> 0 | I8: =SUM(H8:H11) -> 0
D9: ='Insumos '!B11 -> Arquiteto Sênior | E9: hora | F9: ='Insumos '!H11 -> 0 | G9: 16 | H9: =ROUND((F9*G9),2) -> 0
D10: ='Insumos '!B12 -> Arquiteto Pleno | E10: hora | F10: ='Insumos '!H12 -> 0 | G10: 21 | H10: =ROUND((F10*G10),2) -> 0
D11: ='Insumos '!B17 -> Digitador | E11: hora | F11: ='Insumos '!H17 -> 0 | G11: 16 | H11: =ROUND((F11*G11),2) -> 0
C12: Produto 2: Vistoria, Busca Documental e Relatório Fotográfico | D12: ='Insumos '!B10 -> Coordenador Geral | E12: hora | F12: ='Insumos '!H10 -> 0 | G12: 2 | H12: =ROUND((F12*G12),2) -> 0 | I12: =SUM(H12:H16) -> 0
D13: =D9 -> Arquiteto Sênior | E13: hora | F13: ='Insumos '!H11 -> 0 | G13: 3 | H13: =ROUND((F13*G13),2) -> 0
D14: ='Insumos '!B14 -> Advogado Sênior | E14: hora | F14: ='Insumos '!H14 -> 0 | G14: 5 | H14: =ROUND((F14*G14),2) -> 0
D15: =D10 -> Arquiteto Pleno | E15: hora | F15: ='Insumos '!H12 -> 0 | G15: 6 | H15: =ROUND((F15*G15),2) -> 0
D16: ='Insumos '!B15 -> Auxiliar de Serviços Gerais | E16: hora | F16: ='Insumos '!H15 -> 0 | G16: 6 | H16: =ROUND((F16*G16),2) -> 0
C17: Produto 3: Diagnóstico | D17: ='Insumos '!B10 -> Coordenador Geral | E17: hora | F17: ='Insumos '!H10 -> 0 | G17: 3 | H17: =ROUND((F17*G17),2) -> 0 | I17: =SUM(H17:H20) -> 0
D18: =D9 -> Arquiteto Sênior | E18: hora | F18: ='Insumos '!H11 -> 0 | G18: 9 | H18: =ROUND((F18*G18),2) -> 0
D19: =D14 -> Advogado Sênior | E19: hora | F19: ='Insumos '!H14 -> 0 | G19: 15 | H19: =ROUND((F19*G19),2) -> 0
D20: =D11 -> Digitador | E20: hora | F20: ='Insumos '!H17 -> 0 | G20: 10 | H20: =ROUND((F20*G20),2) -> 0
C21: Produto 4: Relatório de Levantamentos Planialtimétricos e Cadastrais | D21: ='Insumos '!B20 -> Levantamento Planialtimétrico Cadastral | E21: m² | F21: ='Insumos '!H20 -> 0 | G21: 8957.01 | H21: =ROUND((F21*G21),2) -> 0 | I21: =SUM(H21) -> 0
C22: Produto 5: Plano de Regularização | D22: ='Insumos '!B10 -> Coordenador Geral | E22: hora | F22: ='Insumos '!H10 -> 0 | G22: 2 | H22: =ROUND((F22*G22),2) -> 0 | I22: =SUM(H22:H25) -> 0
D23: =D9 -> Arquiteto Sênior | E23: hora | F23: ='Insumos '!H11 -> 0 | G23: 10 | H23: =ROUND((F23*G23),2) -> 0
D24: =D14 -> Advogado Sênior | E24: hora | F24: ='Insumos '!H14 -> 0 | G24: 14 | H24: =ROUND((F24*G24),2) -> 0
D25: =D11 -> Digitador | E25: hora | F25: ='Insumos '!H17 -> 0 | G25: 10 | H25: =ROUND((F25*G25),2) -> 0
C26: Produto 6: Relatório Consolidado de Notificações | D26: ='Insumos '!B10 -> Coordenador Geral | E26: hora | F26: ='Insumos '!H10 -> 0 | G26: 1 | H26: =ROUND((F26*G26),2) -> 0 | I26: =SUM(H26:H30) -> 0
D27: =D9 -> Arquiteto Sênior | E27: hora | F27: ='Insumos '!H11 -> 0 | G27: 3 | H27: =ROUND((F27*G27),2) -> 0
D28: =D24 -> Advogado Sênior | E28: hora | F28: ='Insumos '!H14 -> 0 | G28: 4 | H28: =ROUND((F28*G28),2) -> 0
D29: =D16 -> Auxiliar de Serviços Gerais | E29: hora | F29: ='Insumos '!H15 -> 0 | G29: 3 | H29: =ROUND((F29*G29),2) -> 0
D30: =D25 -> Digitador | E30: hora | F30: ='Insumos '!H17 -> 0 | G30: 5 | H30: =ROUND((F30*G30),2) -> 0
C31: Produto 7: Relatório de Registro de Reuniões de Entrada | D31: ='Insumos '!B10 -> Coordenador Geral | E31: hora | F31: ='Insumos '!H10 -> 0 | G31: 1 | H31: =ROUND((F31*G31),2) -> 0 | I31: =SUM(H31:H35) -> 0
D32: =D9 -> Arquiteto Sênior | E32: hora | F32: ='Insumos '!H11 -> 0 | G32: 3 | H32: =ROUND((F32*G32),2) -> 0
D33: =D28 -> Advogado Sênior | E33: hora | F33: ='Insumos '!H14 -> 0 | G33: 9 | H33: =ROUND((F33*G33),2) -> 0
D34: ='Insumos '!B16 -> Assistente Social Pleno | E34: hora | F34: ='Insumos '!H16 -> 0 | G34: 17 | H34: =ROUND((F34*G34),2) -> 0
D35: =D30 -> Digitador | E35: hora | F35: ='Insumos '!H17 -> 0 | G35: 8 | H35: =ROUND((F35*G35),2) -> 0
C36: Produto 8: Planta de Selagem e Congelamento Georreferenciados | D36: ='Insumos '!B10 -> Coordenador Geral | E36: hora | F36: ='Insumos '!H10 -> 0 | G36: 4 | H36: =ROUND((F36*G36),2) -> 0 | I36: =SUM(H36:H39) -> 0
D37: =D9 -> Arquiteto Sênior | E37: hora | F37: ='Insumos '!H11 -> 0 | G37: 15 | H37: =ROUND((F37*G37),2) -> 0
D38: ='Insumos '!B13 -> Desenhista Projetista | E38: hora | F38: ='Insumos '!H13 -> 0 | G38: 30 | H38: =ROUND((F38*G38),2) -> 0
D39: =D34 -> Assistente Social Pleno | E39: hora | F39: ='Insumos '!H16 -> 0 | G39: 61 | H39: =ROUND((F39*G39),2) -> 0
C40: Produto 9: Relatório de Cadastro de Beneficiários | D40: ='Insumos '!B10 -> Coordenador Geral | E40: hora | F40: ='Insumos '!H10 -> 0 | G40: 5 | H40: =ROUND((F40*G40),2) -> 0 | I40: =SUM(H40:H44) -> 0
...

Sheet MARCOS ANDREOTTI
B1: ANEXO VIII – Modelo de Planilha de Proposta
B2: EMPRESA:
B3: CNPJ:
B4: REGULARIZAÇÃO FUNDIÁRIA DE NÚCLEOS DIVERSOS (1.051 Matrículas)
B5: PLANILHA ORÇAMENTÁRIA POR NÚCLEOS
B6: MARCOS ANDREOTTI
B7: Etapa | C7: Produto | D7: Insumos | E7: Unid. | F7: Preço de Venda | G7: Quantidade | H7: Valor Parcial | I7: Subtotal por Produto
B8: ETAPA I: SUBSÍDIOS TÉCNICOS PARA A REGULARIZAÇÃO FUNDIÁRIA | C8: Produto 1: Relatório de Análise Técnica Preliminar de Núcleos Urbanos Informais | D8: ='Insumos '!B10 -> Coordenador Geral | E8: hora | F8: ='Insumos '!H10 -> 0 | G8: 4 | H8: =ROUND((F8*G8),2) -> 0 | I8: =SUM(H8:H11) -> 0 | J8: =I8 -> 0
D9: ='Insumos '!B11 -> Arquiteto Sênior | E9: hora | F9: ='Insumos '!H11 -> 0 | G9: 7 | H9: =ROUND((F9*G9),2) -> 0
D10: ='Insumos '!B12 -> Arquiteto Pleno | E10: hora | F10: ='Insumos '!H12 -> 0 | G10: 9 | H10: =ROUND((F10*G10),2) -> 0
D11: ='Insumos '!B17 -> Digitador | E11: hora | F11: ='Insumos '!H17 -> 0 | G11: 7 | H11: =ROUND((F11*G11),2) -> 0
C12: Produto 2: Vistoria, Busca Documental e Relatório Fotográfico | D12: ='Insumos '!B10 -> Coordenador Geral | E12: hora | F12: ='Insumos '!H10 -> 0 | G12: 1 | H12: =ROUND((F12*G12),2) -> 0 | I12: =SUM(H12:H16) -> 0 | J12: =I12 -> 0
D13: =D9 -> Arquiteto Sênior | E13: hora | F13: ='Insumos '!H11 -> 0 | G13: 1 | H13: =ROUND((F13*G13),2) -> 0
D14: ='Insumos '!B14 -> Advogado Sênior | E14: hora | F14: ='Insumos '!H14 -> 0 | G14: 2 | H14: =ROUND((F14*G14),2) -> 0
D15: =D10 -> Arquiteto Pleno | E15: hora | F15: ='Insumos '!H12 -> 0 | G15: 2 | H15: =ROUND((F15*G15),2) -> 0
D16: ='Insumos '!B15 -> Auxiliar de Serviços Gerais | E16: hora | F16: ='Insumos '!H15 -> 0 | G16: 2 | H16: =ROUND((F16*G16),2) -> 0
C17: Produto 3: Diagnóstico | D17: ='Insumos '!B10 -> Coordenador Geral | E17: hora | F17: ='Insumos '!H10 -> 0 | G17: 1 | H17: =ROUND((F17*G17),2) -> 0 | I17: =SUM(H17:H20) -> 0 | J17: =I17 -> 0
D18: =D9 -> Arquiteto Sênior | E18: hora | F18: ='Insumos '!H11 -> 0 | G18: 4 | H18: =ROUND((F18*G18),2) -> 0
D19: =D14 -> Advogado Sênior | E19: hora | F19: ='Insumos '!H14 -> 0 | G19: 7 | H19: =ROUND((F19*G19),2) -> 0
D20: =D11 -> Digitador | E20: hora | F20: ='Insumos '!H17 -> 0 | G20: 4 | H20: =ROUND((F20*G20),2) -> 0
C21: Produto 4: Relatório de Levantamentos Planialtimétricos e Cadastrais | D21: ='Insumos '!B20 -> Levantamento Planialtimétrico Cadastral | E21: m² | F21: ='Insumos '!H20 -> 0 | G21: 3892.61 | H21: =ROUND((F21*G21),2) -> 0 | I21: =SUM(H21) -> 0 | J21: =I21 -> 0
C22: Produto 5: Plano de Regularização | D22: ='Insumos '!B10 -> Coordenador Geral | E22: hora | F22: ='Insumos '!H10 -> 0 | G22: 1 | H22: =ROUND((F22*G22),2) -> 0 | I22: =SUM(H22:H25) -> 0 | J22: =I22 -> 0
D23: =D9 -> Arquiteto Sênior | E23: hora | F23: ='Insumos '!H11 -> 0 | G23: 4 | H23: =ROUND((F23*G23),2) -> 0
D24: =D14 -> Advogado Sênior | E24: hora | F24: ='Insumos '!H14 -> 0 | G24: 6 | H24: =ROUND((F24*G24),2) -> 0
D25: =D11 -> Digitador | E25: hora | F25: ='Insumos '!H17 -> 0 | G25: 4 | H25: =ROUND((F25*G25),2) -> 0
C26: Produto 6: Relatório Consolidado de Notificações | D26: ='Insumos '!B10 -> Coordenador Geral | E26: hora | F26: ='Insumos '!H10 -> 0 | G26: 1 | H26: =ROUND((F26*G26),2) -> 0 | I26: =SUM(H26:H30) -> 0 | J26: =I26 -> 0
D27: =D9 -> Arquiteto Sênior | E27: hora | F27: ='Insumos '!H11 -> 0 | G27: 1 | H27: =ROUND((F27*G27),2) -> 0
D28: =D24 -> Advogado Sênior | E28: hora | F28: ='Insumos '!H14 -> 0 | G28: 2 | H28: =ROUND((F28*G28),2) -> 0
D29: =D16 -> Auxiliar de Serviços Gerais | E29: hora | F29: ='Insumos '!H15 -> 0 | G29: 1 | H29: =ROUND((F29*G29),2) -> 0
D30: =D25 -> Digitador | E30: hora | F30: ='Insumos '!H17 -> 0 | G30: 2 | H30: =ROUND((F30*G30),2) -> 0
C31: Produto 7: Relatório de Registro de Reuniões de Entrada | D31: ='Insumos '!B10 -> Coordenador Geral | E31: hora | F31: ='Insumos '!H10 -> 0 | G31: 1 | H31: =ROUND((F31*G31),2) -> 0 | I31: =SUM(H31:H35) -> 0 | J31: =I31 -> 0
D32: =D9 -> Arquiteto Sênior | E32: hora | F32: ='Insumos '!H11 -> 0 | G32: 2 | H32: =ROUND((F32*G32),2) -> 0
D33: =D28 -> Advogado Sênior | E33: hora | F33: ='Insumos '!H14 -> 0 | G33: 6 | H33: =ROUND((F33*G33),2) -> 0
D34: ='Insumos '!B16 -> Assistente Social Pleno | E34: hora | F34: ='Insumos '!H16 -> 0 | G34: 10 | H34: =ROUND((F34*G34),2) -> 0
D35: =D30 -> Digitador | E35: hora | F35: ='Insumos '!H17 -> 0 | G35: 5 | H35: =ROUND((F35*G35),2) -> 0
C36: Produto 8: Planta de Selagem e Congelamento Georreferenciados | D36: ='Insumos '!B10 -> Coordenador Geral | E36: hora | F36: ='Insumos '!H10 -> 0 | G36: 3 | H36: =ROUND((F36*G36),2) -> 0 | I36: =SUM(H36:H39) -> 0 | J36: =I36 -> 0
D37: =D9 -> Arquiteto Sênior | E37: hora | F37: ='Insumos '!H11 -> 0 | G37: 10 | H37: =ROUND((F37*G37),2) -> 0
D38: ='Insumos '!B13 -> Desenhista Projetista | E38: hora | F38: ='Insumos '!H13 -> 0 | G38: 19 | H38: =ROUND((F38*G38),2) -> 0
D39: =D34 -> Assistente Social Pleno | E39: hora | F39: ='Insumos '!H16 -> 0 | G39: 38 | H39: =ROUND((F39*G39),2) -> 0
C40: Produto 9: Relatório de Cadastro de Beneficiários | D40: ='Insumos '!B10 -> Coordenador Geral | E40: hora | F40: ='Insumos '!H10 -> 0 | G40: 3 | H40: =ROUND((F40*G40),2) -> 0 | I40: =SUM(H40:H44) -> 0 | J40: =I40 -> 0
...

Sheet ANTÔNIO VIANA DE FREITAS
B1: ANEXO VIII – Modelo de Planilha de Proposta
B2: EMPRESA:
B3: CNPJ:
B4: REGULARIZAÇÃO FUNDIÁRIA DE NÚCLEOS DIVERSOS (1.051 Matrículas)
B5: PLANILHA ORÇAMENTÁRIA POR NÚCLEOS
B6: ANTÔNIO VIANA DE FREITAS
B7: Etapa | C7: Produto | D7: Insumos | E7: Unid. | F7: Preço de Venda | G7: Quantidade | H7: Valor Parcial | I7: Subtotal por Produto
B8: ETAPA I: SUBSÍDIOS TÉCNICOS PARA A REGULARIZAÇÃO FUNDIÁRIA | C8: Produto 1: Relatório de Análise Técnica Preliminar de Núcleos Urbanos Informais | D8: ='Insumos '!B10 -> Coordenador Geral | E8: hora | F8: ='Insumos '!H10 -> 0 | G8: 8 | H8: =ROUND((F8*G8),2) -> 0 | I8: =SUM(H8:H11) -> 0 | J8: =I8 -> 0
D9: ='Insumos '!B11 -> Arquiteto Sênior | E9: hora | F9: ='Insumos '!H11 -> 0 | G9: 17 | H9: =ROUND((F9*G9),2) -> 0
D10: ='Insumos '!B12 -> Arquiteto Pleno | E10: hora | F10: ='Insumos '!H12 -> 0 | G10: 21 | H10: =ROUND((F10*G10),2) -> 0
D11: ='Insumos '!B17 -> Digitador | E11: hora | F11: ='Insumos '!H17 -> 0 | G11: 17 | H11: =ROUND((F11*G11),2) -> 0
C12: Produto 2: Vistoria, Busca Documental e Relatório Fotográfico | D12: ='Insumos '!B10 -> Coordenador Geral | E12: hora | F12: ='Insumos '!H10 -> 0 | G12: 2 | H12: =ROUND((F12*G12),2) -> 0 | I12: =SUM(H12:H16) -> 0 | J12: =I12 -> 0
D13: =D9 -> Arquiteto Sênior | E13: hora | F13: ='Insumos '!H11 -> 0 | G13: 3 | H13: =ROUND((F13*G13),2) -> 0
D14: ='Insumos '!B14 -> Advogado Sênior | E14: hora | F14: ='Insumos '!H14 -> 0 | G14: 5 | H14: =ROUND((F14*G14),2) -> 0
D15: =D10 -> Arquiteto Pleno | E15: hora | F15: ='Insumos '!H12 -> 0 | G15: 6 | H15: =ROUND((F15*G15),2) -> 0
D16: ='Insumos '!B15 -> Auxiliar de Serviços Gerais | E16: hora | F16: ='Insumos '!H15 -> 0 | G16: 6 | H16: =ROUND((F16*G16),2) -> 0
C17: Produto 3: Diagnóstico | D17: ='Insumos '!B10 -> Coordenador Geral | E17: hora | F17: ='Insumos '!H10 -> 0 | G17: 3 | H17: =ROUND((F17*G17),2) -> 0 | I17: =SUM(H17:H20) -> 0 | J17: =I17 -> 0
D18: =D9 -> Arquiteto Sênior | E18: hora | F18: ='Insumos '!H11 -> 0 | G18: 9 | H18: =ROUND((F18*G18),2) -> 0
D19: =D14 -> Advogado Sênior | E19: hora | F19: ='Insumos '!H14 -> 0 | G19: 16 | H19: =ROUND((F19*G19),2) -> 0
D20: =D11 -> Digitador | E20: hora | F20: ='Insumos '!H17 -> 0 | G20: 10 | H20: =ROUND((F20*G20),2) -> 0
C21: Produto 4: Relatório de Levantamentos Planialtimétricos e Cadastrais | D21: ='Insumos '!B20 -> Levantamento Planialtimétrico Cadastral | E21: m² | F21: ='Insumos '!H20 -> 0 | G21: 9082 | H21: =ROUND((F21*G21),2) -> 0 | I21: =SUM(H21) -> 0 | J21: =I21 -> 0
C22: Produto 5: Plano de Regularização | D22: ='Insumos '!B10 -> Coordenador Geral | E22: hora | F22: ='Insumos '!H10 -> 0 | G22: 2 | H22: =ROUND((F22*G22),2) -> 0 | I22: =SUM(H22:H25) -> 0 | J22: =I22 -> 0
D23: =D9 -> Arquiteto Sênior | E23: hora | F23: ='Insumos '!H11 -> 0 | G23: 10 | H23: =ROUND((F23*G23),2) -> 0
D24: =D14 -> Advogado Sênior | E24: hora | F24: ='Insumos '!H14 -> 0 | G24: 14 | H24: =ROUND((F24*G24),2) -> 0
D25: =D11 -> Digitador | E25: hora | F25: ='Insumos '!H17 -> 0 | G25: 10 | H25: =ROUND((F25*G25),2) -> 0
C26: Produto 6: Relatório Consolidado de Notificações | D26: ='Insumos '!B10 -> Coordenador Geral | E26: hora | F26: ='Insumos '!H10 -> 0 | G26: 1 | H26: =ROUND((F26*G26),2) -> 0 | I26: =SUM(H26:H30) -> 0 | J26: =I26 -> 0
D27: =D9 -> Arquiteto Sênior | E27: hora | F27: ='Insumos '!H11 -> 0 | G27: 3 | H27: =ROUND((F27*G27),2) -> 0
D28: =D24 -> Advogado Sênior | E28: hora | F28: ='Insumos '!H14 -> 0 | G28: 4 | H28: =ROUND((F28*G28),2) -> 0
D29: =D16 -> Auxiliar de Serviços Gerais | E29: hora | F29: ='Insumos '!H15 -> 0 | G29: 3 | H29: =ROUND((F29*G29),2) -> 0
D30: =D25 -> Digitador | E30: hora | F30: ='Insumos '!H17 -> 0 | G30: 5 | H30: =ROUND((F30*G30),2) -> 0
C31: Produto 7: Relatório de Registro de Reuniões de Entrada | D31: ='Insumos '!B10 -> Coordenador Geral | E31: hora | F31: ='Insumos '!H10 -> 0 | G31: 1 | H31: =ROUND((F31*G31),2) -> 0 | I31: =SUM(H31:H35) -> 0 | J31: =I31 -> 0
D32: =D9 -> Arquiteto Sênior | E32: hora | F32: ='Insumos '!H11 -> 0 | G32: 3 | H32: =ROUND((F32*G32),2) -> 0
D33: =D28 -> Advogado Sênior | E33: hora | F33: ='Insumos '!H14 -> 0 | G33: 8 | H33: =ROUND((F33*G33),2) -> 0
D34: ='Insumos '!B16 -> Assistente Social Pleno | E34: hora | F34: ='Insumos '!H16 -> 0 | G34: 15 | H34: =ROUND((F34*G34),2) -> 0
D35: =D30 -> Digitador | E35: hora | F35: ='Insumos '!H17 -> 0 | G35: 7 | H35: =ROUND((F35*G35),2) -> 0
C36: Produto 8: Planta de Selagem e Congelamento Georreferenciados | D36: ='Insumos '!B10 -> Coordenador Geral | E36: hora | F36: ='Insumos '!H10 -> 0 | G36: 4 | H36: =ROUND((F36*G36),2) -> 0 | I36: =SUM(H36:H39) -> 0 | J36: =I36 -> 0
D37: =D9 -> Arquiteto Sênior | E37: hora | F37: ='Insumos '!H11 -> 0 | G37: 13 | H37: =ROUND((F37*G37),2) -> 0
D38: ='Insumos '!B13 -> Desenhista Projetista | E38: hora | F38: ='Insumos '!H13 -> 0 | G38: 27 | H38: =ROUND((F38*G38),2) -> 0
D39: =D34 -> Assistente Social Pleno | E39: hora | F39: ='Insumos '!H16 -> 0 | G39: 53 | H39: =ROUND((F39*G39),2) -> 0
C40: Produto 9: Relatório de Cadastro de Beneficiários | D40: ='Insumos '!B10 -> Coordenador Geral | E40: hora | F40: ='Insumos '!H10 -> 0 | G40: 4 | H40: =ROUND((F40*G40),2) -> 0 | I40: =SUM(H40:H44) -> 0 | J40: =I40 -> 0
...

Sheet AUGUSTO ÂNGELO CUSTODIO
B1: ANEXO VIII – Modelo de Planilha de Proposta
B2: EMPRESA:
B3: CNPJ:
B4: REGULARIZAÇÃO FUNDIÁRIA DE NÚCLEOS DIVERSOS (1.051 Matrículas)
B5: PLANILHA ORÇAMENTÁRIA POR NÚCLEOS
B6: AUGUSTO ÂNGELO CUSTODIO
B7: Etapa | C7: Produto | D7: Insumos | E7: Unid. | F7: Preço de Venda | G7: Quantidade | H7: Valor Parcial | I7: Subtotal por Produto
B8: ETAPA I: SUBSÍDIOS TÉCNICOS PARA A REGULARIZAÇÃO FUNDIÁRIA | C8: Produto 1: Relatório de Análise Técnica Preliminar de Núcleos Urbanos Informais | D8: ='Insumos '!B10 -> Coordenador Geral | E8: hora | F8: ='Insumos '!H10 -> 0 | G8: 8 | H8: =ROUND((F8*G8),2) -> 0 | I8: =SUM(H8:H11) -> 0 | J8: =I8 -> 0
D9: ='Insumos '!B11 -> Arquiteto Sênior | E9: hora | F9: ='Insumos '!H11 -> 0 | G9: 16 | H9: =ROUND((F9*G9),2) -> 0
D10: ='Insumos '!B12 -> Arquiteto Pleno | E10: hora | F10: ='Insumos '!H12 -> 0 | G10: 20 | H10: =ROUND((F10*G10),2) -> 0
D11: ='Insumos '!B17 -> Digitador | E11: hora | F11: ='Insumos '!H17 -> 0 | G11: 16 | H11: =ROUND((F11*G11),2) -> 0
C12: Produto 2: Vistoria, Busca Documental e Relatório Fotográfico | D12: ='Insumos '!B10 -> Coordenador Geral | E12: hora | F12: ='Insumos '!H10 -> 0 | G12: 1 | H12: =ROUND((F12*G12),2) -> 0 | I12: =SUM(H12:H16) -> 0 | J12: =I12 -> 0
D13: =D9 -> Arquiteto Sênior | E13: hora | F13: ='Insumos '!H11 -> 0 | G13: 2 | H13: =ROUND((F13*G13),2) -> 0
D14: ='Insumos '!B14 -> Advogado Sênior | E14: hora | F14: ='Insumos '!H14 -> 0 | G14: 4 | H14: =ROUND((F14*G14),2) -> 0
D15: =D10 -> Arquiteto Pleno | E15: hora | F15: ='Insumos '!H12 -> 0 | G15: 5 | H15: =ROUND((F15*G15),2) -> 0
D16: ='Insumos '!B15 -> Auxiliar de Serviços Gerais | E16: hora | F16: ='Insumos '!H15 -> 0 | G16: 5 | H16: =ROUND((F16*G16),2) -> 0
C17: Produto 3: Diagnóstico | D17: ='Insumos '!B10 -> Coordenador Geral | E17: hora | F17: ='Insumos '!H10 -> 0 | G17: 3 | H17: =ROUND((F17*G17),2) -> 0 | I17: =SUM(H17:H20) -> 0 | J17: =I17 -> 0
D18: =D9 -> Arquiteto Sênior | E18: hora | F18: ='Insumos '!H11 -> 0 | G18: 8 | H18: =ROUND((F18*G18),2) -> 0
D19: =D14 -> Advogado Sênior | E19: hora | F19: ='Insumos '!H14 -> 0 | G19: 15 | H19: =ROUND((F19*G19),2) -> 0
D20: =D11 -> Digitador | E20: hora | F20: ='Insumos '!H17 -> 0 | G20: 10 | H20: =ROUND((F20*G20),2) -> 0
C21: Produto 4: Relatório de Levantamentos Planialtimétricos e Cadastrais | D21: ='Insumos '!B20 -> Levantamento Planialtimétrico Cadastral | E21: m² | F21: ='Insumos '!H20 -> 0 | G21: 8583 | H21: =ROUND((F21*G21),2) -> 0 | I21: =SUM(H21) -> 0 | J21: =I21 -> 0
C22: Produto 5: Plano de Regularização | D22: ='Insumos '!B10 -> Coordenador Geral | E22: hora | F22: ='Insumos '!H10 -> 0 | G22: 2 | H22: =ROUND((F22*G22),2) -> 0 | I22: =SUM(H22:H25) -> 0 | J22: =I22 -> 0
D23: =D9 -> Arquiteto Sênior | E23: hora | F23: ='Insumos '!H11 -> 0 | G23: 10 | H23: =ROUND((F23*G23),2) -> 0
D24: =D14 -> Advogado Sênior | E24: hora | F24: ='Insumos '!H14 -> 0 | G24: 13 | H24: =ROUND((F24*G24),2) -> 0
D25: =D11 -> Digitador | E25: hora | F25: ='Insumos '!H17 -> 0 | G25: 10 | H25: =ROUND((F25*G25),2) -> 0
C26: Produto 6: Relatório Consolidado de Notificações | D26: ='Insumos '!B10 -> Coordenador Geral | E26: hora | F26: ='Insumos '!H10 -> 0 | G26: 1 | H26: =ROUND((F26*G26),2) -> 0 | I26: =SUM(H26:H30) -> 0 | J26: =I26 -> 0
D27: =D9 -> Arquiteto Sênior | E27: hora | F27: ='Insumos '!H11 -> 0 | G27: 2 | H27: =ROUND((F27*G27),2) -> 0
D28: =D24 -> Advogado Sênior | E28: hora | F28: ='Insumos '!H14 -> 0 | G28: 4 | H28: =ROUND((F28*G28),2) -> 0
D29: =D16 -> Auxiliar de Serviços Gerais | E29: hora | F29: ='Insumos '!H15 -> 0 | G29: 3 | H29: =ROUND((F29*G29),2) -> 0
D30: =D25 -> Digitador | E30: hora | F30: ='Insumos '!H17 -> 0 | G30: 5 | H30: =ROUND((F30*G30),2) -> 0
C31: Produto 7: Relatório de Registro de Reuniões de Entrada | D31: ='Insumos '!B10 -> Coordenador Geral | E31: hora | F31: ='Insumos '!H10 -> 0 | G31: 1 | H31: =ROUND((F31*G31),2) -> 0 | I31: =SUM(H31:H35) -> 0 | J31: =I31 -> 0
D32: =D9 -> Arquiteto Sênior | E32: hora | F32: ='Insumos '!H11 -> 0 | G32: 3 | H32: =ROUND((F32*G32),2) -> 0
D33: =D28 -> Advogado Sênior | E33: hora | F33: ='Insumos '!H14 -> 0 | G33: 8 | H33: =ROUND((F33*G33),2) -> 0
D34: ='Insumos '!B16 -> Assistente Social Pleno | E34: hora | F34: ='Insumos '!H16 -> 0 | G34: 14 | H34: =ROUND((F34*G34),2) -> 0
D35: =D30 -> Digitador | E35: hora | F35: ='Insumos '!H17 -> 0 | G35: 6 | H35: =ROUND((F35*G35),2) -> 0
C36: Produto 8: Planta de Selagem e Congelamento Georreferenciados | D36: ='Insumos '!B10 -> Coordenador Geral | E36: hora | F36: ='Insumos '!H10 -> 0 | G36: 4 | H36: =ROUND((F36*G36),2) -> 0 | I36: =SUM(H36:H39) -> 0 | J36: =I36 -> 0
D37: =D9 -> Arquiteto Sênior | E37: hora | F37: ='Insumos '!H11 -> 0 | G37: 13 | H37: =ROUND((F37*G37),2) -> 0
D38: ='Insumos '!B13 -> Desenhista Projetista | E38: hora | F38: ='Insumos '!H13 -> 0 | G38: 25 | H38: =ROUND((F38*G38),2) -> 0
D39: =D34 -> Assistente Social Pleno | E39: hora | F39: ='Insumos '!H16 -> 0 | G39: 50 | H39: =ROUND((F39*G39),2) -> 0
C40: Produto 9: Relatório de Cadastro de Beneficiários | D40: ='Insumos '!B10 -> Coordenador Geral | E40: hora | F40: ='Insumos '!H10 -> 0 | G40: 4 | H40: =ROUND((F40*G40),2) -> 0 | I40: =SUM(H40:H44) -> 0 | J40: =I40 -> 0
...

Sheet AUGUSTO SCHIKANOWSKI FILHO
B1: ANEXO VIII – Modelo de Planilha de Proposta
B2: EMPRESA:
B3: CNPJ:
B4: REGULARIZAÇÃO FUNDIÁRIA DE NÚCLEOS DIVERSOS (1.051 Matrículas)
B5: PLANILHA ORÇAMENTÁRIA POR NÚCLEOS
B6: AUGUSTO SCHIKANOWSKI FILHO
B7: Etapa | C7: Produto | D7: Insumos | E7: Unid. | F7: Preço de Venda | G7: Quantidade | H7: Valor Parcial | I7: Subtotal por Produto
B8: ETAPA I: SUBSÍDIOS TÉCNICOS PARA A REGULARIZAÇÃO FUNDIÁRIA | C8: Produto 1: Relatório de Análise Técnica Preliminar de Núcleos Urbanos Informais | D8: ='Insumos '!B10 -> Coordenador Geral | E8: hora | F8: ='Insumos '!H10 -> 0 | G8: 11 | H8: =ROUND((F8*G8),2) -> 0 | I8: =SUM(H8:H11) -> 0 | J8: =I8 -> 0
D9: ='Insumos '!B11 -> Arquiteto Sênior | E9: hora | F9: ='Insumos '!H11 -> 0 | G9: 23 | H9: =ROUND((F9*G9),2) -> 0
D10: ='Insumos '!B12 -> Arquiteto Pleno | E10: hora | F10: ='Insumos '!H12 -> 0 | G10: 29 | H10: =ROUND((F10*G10),2) -> 0
D11: ='Insumos '!B17 -> Digitador | E11: hora | F11: ='Insumos '!H17 -> 0 | G11: 23 | H11: =ROUND((F11*G11),2) -> 0
C12: Produto 2: Vistoria, Busca Documental e Relatório Fotográfico | D12: ='Insumos '!B10 -> Coordenador Geral | E12: hora | F12: ='Insumos '!H10 -> 0 | G12: 2 | H12: =ROUND((F12*G12),2) -> 0 | I12: =SUM(H12:H16) -> 0 | J12: =I12 -> 0
D13: =D9 -> Arquiteto Sênior | E13: hora | F13: ='Insumos '!H11 -> 0 | G13: 4 | H13: =ROUND((F13*G13),2) -> 0
D14: ='Insumos '!B14 -> Advogado Sênior | E14: hora | F14: ='Insumos '!H14 -> 0 | G14: 7 | H14: =ROUND((F14*G14),2) -> 0
D15: =D10 -> Arquiteto Pleno | E15: hora | F15: ='Insumos '!H12 -> 0 | G15: 8 | H15: =ROUND((F15*G15),2) -> 0
D16: ='Insumos '!B15 -> Auxiliar de Serviços Gerais | E16: hora | F16: ='Insumos '!H15 -> 0 | G16: 8 | H16: =ROUND((F16*G16),2) -> 0
C17: Produto 3: Diagnóstico | D17: ='Insumos '!B10 -> Coordenador Geral | E17: hora | F17: ='Insumos '!H10 -> 0 | G17: 4 | H17: =ROUND((F17*G17),2) -> 0 | I17: =SUM(H17:H20) -> 0 | J17: =I17 -> 0
D18: =D9 -> Arquiteto Sênior | E18: hora | F18: ='Insumos '!H11 -> 0 | G18: 12 | H18: =ROUND((F18*G18),2) -> 0
D19: =D14 -> Advogado Sênior | E19: hora | F19: ='Insumos '!H14 -> 0 | G19: 22 | H19: =ROUND((F19*G19),2) -> 0
D20: =D11 -> Digitador | E20: hora | F20: ='Insumos '!H17 -> 0 | G20: 15 | H20: =ROUND((F20*G20),2) -> 0
C21: Produto 4: Relatório de Levantamentos Planialtimétricos e Cadastrais | D21: ='Insumos '!B20 -> Levantamento Planialtimétrico Cadastral | E21: m² | F21: ='Insumos '!H20 -> 0 | G21: 12729 | H21: =ROUND((F21*G21),2) -> 0 | I21: =SUM(H21) -> 0 | J21: =I21 -> 0
C22: Produto 5: Plano de Regularização | D22: ='Insumos '!B10 -> Coordenador Geral | E22: hora | F22: ='Insumos '!H10 -> 0 | G22: 3 | H22: =ROUND((F22*G22),2) -> 0 | I22: =SUM(H22:H25) -> 0 | J22: =I22 -> 0
D23: =D9 -> Arquiteto Sênior | E23: hora | F23: ='Insumos '!H11 -> 0 | G23: 15 | H23: =ROUND((F23*G23),2) -> 0
D24: =D14 -> Advogado Sênior | E24: hora | F24: ='Insumos '!H14 -> 0 | G24: 20 | H24: =ROUND((F24*G24),2) -> 0
D25: =D11 -> Digitador | E25: hora | F25: ='Insumos '!H17 -> 0 | G25: 15 | H25: =ROUND((F25*G25),2) -> 0
C26: Produto 6: Relatório Consolidado de Notificações | D26: ='Insumos '!B10 -> Coordenador Geral | E26: hora | F26: ='Insumos '!H10 -> 0 | G26: 1 | H26: =ROUND((F26*G26),2) -> 0 | I26: =SUM(H26:H30) -> 0 | J26: =I26 -> 0
D27: =D9 -> Arquiteto Sênior | E27: hora | F27: ='Insumos '!H11 -> 0 | G27: 4 | H27: =ROUND((F27*G27),2) -> 0
D28: =D24 -> Advogado Sênior | E28: hora | F28: ='Insumos '!H14 -> 0 | G28: 6 | H28: =ROUND((F28*G28),2) -> 0
D29: =D16 -> Auxiliar de Serviços Gerais | E29: hora | F29: ='Insumos '!H15 -> 0 | G29: 4 | H29: =ROUND((F29*G29),2) -> 0
D30: =D25 -> Digitador | E30: hora | F30: ='Insumos '!H17 -> 0 | G30: 8 | H30: =ROUND((F30*G30),2) -> 0
C31: Produto 7: Relatório de Registro de Reuniões de Entrada | D31: ='Insumos '!B10 -> Coordenador Geral | E31: hora | F31: ='Insumos '!H10 -> 0 | G31: 1 | H31: =ROUND((F31*G31),2) -> 0 | I31: =SUM(H31:H35) -> 0 | J31: =I31 -> 0
D32: =D9 -> Arquiteto Sênior | E32: hora | F32: ='Insumos '!H11 -> 0 | G32: 2 | H32: =ROUND((F32*G32),2) -> 0
D33: =D28 -> Advogado Sênior | E33: hora | F33: ='Insumos '!H14 -> 0 | G33: 6 | H33: =ROUND((F33*G33),2) -> 0
D34: ='Insumos '!B16 -> Assistente Social Pleno | E34: hora | F34: ='Insumos '!H16 -> 0 | G34: 11 | H34: =ROUND((F34*G34),2) -> 0
D35: =D30 -> Digitador | E35: hora | F35: ='Insumos '!H17 -> 0 | G35: 5 | H35: =ROUND((F35*G35),2) -> 0
C36: Produto 8: Planta de Selagem e Congelamento Georreferenciados | D36: ='Insumos '!B10 -> Coordenador Geral | E36: hora | F36: ='Insumos '!H10 -> 0 | G36: 3 | H36: =ROUND((F36*G36),2) -> 0 | I36: =SUM(H36:H39) -> 0 | J36: =I36 -> 0
D37: =D9 -> Arquiteto Sênior | E37: hora | F37: ='Insumos '!H11 -> 0 | G37: 10 | H37: =ROUND((F37*G37),2) -> 0
D38: ='Insumos '!B13 -> Desenhista Projetista | E38: hora | F38: ='Insumos '!H13 -> 0 | G38: 20 | H38: =ROUND((F38*G38),2) -> 0
D39: =D34 -> Assistente Social Pleno | E39: hora | F39: ='Insumos '!H16 -> 0 | G39: 40 | H39: =ROUND((F39*G39),2) -> 0
C40: Produto 9: Relatório de Cadastro de Beneficiários | D40: ='Insumos '!B10 -> Coordenador Geral | E40: hora | F40: ='Insumos '!H10 -> 0 | G40: 3 | H40: =ROUND((F40*G40),2) -> 0 | I40: =SUM(H40:H44) -> 0 | J40: =I40 -> 0
...

Sheet BELINO BRANCALION
B1: ANEXO VIII – Modelo de Planilha de Proposta
B2: EMPRESA:
B3: CNPJ:
B4: REGULARIZAÇÃO FUNDIÁRIA DE NÚCLEOS DIVERSOS (1.051 Matrículas)
B5: PLANILHA ORÇAMENTÁRIA POR NÚCLEOS
B6: BELINO BRANCALION
B7: Etapa | C7: Produto | D7: Insumos | E7: Unid. | F7: Preço de Venda | G7: Quantidade | H7: Valor Parcial | I7: Subtotal por Produto
B8: ETAPA I: SUBSÍDIOS TÉCNICOS PARA A REGULARIZAÇÃO FUNDIÁRIA | C8: Produto 1: Relatório de Análise Técnica Preliminar de Núcleos Urbanos Informais | D8: ='Insumos '!B10 -> Coordenador Geral | E8: hora | F8: ='Insumos '!H10 -> 0 | G8: 4 | H8: =ROUND((F8*G8),2) -> 0 | I8: =SUM(H8:H11) -> 0 | J8: =I8 -> 0
D9: ='Insumos '!B11 -> Arquiteto Sênior | E9: hora | F9: ='Insumos '!H11 -> 0 | G9: 7 | H9: =ROUND((F9*G9),2) -> 0
D10: ='Insumos '!B12 -> Arquiteto Pleno | E10: hora | F10: ='Insumos '!H12 -> 0 | G10: 9 | H10: =ROUND((F10*G10),2) -> 0
D11: ='Insumos '!B17 -> Digitador | E11: hora | F11: ='Insumos '!H17 -> 0 | G11: 7 | H11: =ROUND((F11*G11),2) -> 0
C12: Produto 2: Vistoria, Busca Documental e Relatório Fotográfico | D12: ='Insumos '!B10 -> Coordenador Geral | E12: hora | F12: ='Insumos '!H10 -> 0 | G12: 1 | H12: =ROUND((F12*G12),2) -> 0 | I12: =SUM(H12:H16) -> 0 | J12: =I12 -> 0
D13: =D9 -> Arquiteto Sênior | E13: hora | F13: ='Insumos '!H11 -> 0 | G13: 1 | H13: =ROUND((F13*G13),2) -> 0
D14: ='Insumos '!B14 -> Advogado Sênior | E14: hora | F14: ='Insumos '!H14 -> 0 | G14: 2 | H14: =ROUND((F14*G14),2) -> 0
D15: =D10 -> Arquiteto Pleno | E15: hora | F15: ='Insumos '!H12 -> 0 | G15: 3 | H15: =ROUND((F15*G15),2) -> 0
D16: ='Insumos '!B15 -> Auxiliar de Serviços Gerais | E16: hora | F16: ='Insumos '!H15 -> 0 | G16: 3 | H16: =ROUND((F16*G16),2) -> 0
C17: Produto 3: Diagnóstico | D17: ='Insumos '!B10 -> Coordenador Geral | E17: hora | F17: ='Insumos '!H10 -> 0 | G17: 1 | H17: =ROUND((F17*G17),2) -> 0 | I17: =SUM(H17:H20) -> 0 | J17: =I17 -> 0
D18: =D9 -> Arquiteto Sênior | E18: hora | F18: ='Insumos '!H11 -> 0 | G18: 4 | H18: =ROUND((F18*G18),2) -> 0
D19: =D14 -> Advogado Sênior | E19: hora | F19: ='Insumos '!H14 -> 0 | G19: 7 | H19: =ROUND((F19*G19),2) -> 0
D20: =D11 -> Digitador | E20: hora | F20: ='Insumos '!H17 -> 0 | G20: 5 | H20: =ROUND((F20*G20),2) -> 0
C21: Produto 4: Relatório de Levantamentos Planialtimétricos e Cadastrais | D21: ='Insumos '!B20 -> Levantamento Planialtimétrico Cadastral | E21: m² | F21: ='Insumos '!H20 -> 0 | G21: 4076 | H21: =ROUND((F21*G21),2) -> 0 | I21: =SUM(H21) -> 0 | J21: =I21 -> 0
C22: Produto 5: Plano de Regularização | D22: ='Insumos '!B10 -> Coordenador Geral | E22: hora | F22: ='Insumos '!H10 -> 0 | G22: 1 | H22: =ROUND((F22*G22),2) -> 0 | I22: =SUM(H22:H25) -> 0 | J22: =I22 -> 0
D23: =D9 -> Arquiteto Sênior | E23: hora | F23: ='Insumos '!H11 -> 0 | G23: 5 | H23: =ROUND((F23*G23),2) -> 0
D24: =D14 -> Advogado Sênior | E24: hora | F24: ='Insumos '!H14 -> 0 | G24: 6 | H24: =ROUND((F24*G24),2) -> 0
D25: =D11 -> Digitador | E25: hora | F25: ='Insumos '!H17 -> 0 | G25: 5 | H25: =ROUND((F25*G25),2) -> 0
C26: Produto 6: Relatório Consolidado de Notificações | D26: ='Insumos '!B10 -> Coordenador Geral | E26: hora | F26: ='Insumos '!H10 -> 0 | G26: 1 | H26: =ROUND((F26*G26),2) -> 0 | I26: =SUM(H26:H30) -> 0 | J26: =I26 -> 0
D27: =D9 -> Arquiteto Sênior | E27: hora | F27: ='Insumos '!H11 -> 0 | G27: 1 | H27: =ROUND((F27*G27),2) -> 0
D28: =D24 -> Advogado Sênior | E28: hora | F28: ='Insumos '!H14 -> 0 | G28: 2 | H28: =ROUND((F28*G28),2) -> 0
D29: =D16 -> Auxiliar de Serviços Gerais | E29: hora | F29: ='Insumos '!H15 -> 0 | G29: 1 | H29: =ROUND((F29*G29),2) -> 0
D30: =D25 -> Digitador | E30: hora | F30: ='Insumos '!H17 -> 0 | G30: 2 | H30: =ROUND((F30*G30),2) -> 0
C31: Produto 7: Relatório de Registro de Reuniões de Entrada | D31: ='Insumos '!B10 -> Coordenador Geral | E31: hora | F31: ='Insumos '!H10 -> 0 | G31: 1 | H31: =ROUND((F31*G31),2) -> 0 | I31: =SUM(H31:H35) -> 0 | J31: =I31 -> 0
D32: =D9 -> Arquiteto Sênior | E32: hora | F32: ='Insumos '!H11 -> 0 | G32: 1 | H32: =ROUND((F32*G32),2) -> 0
D33: =D28 -> Advogado Sênior | E33: hora | F33: ='Insumos '!H14 -> 0 | G33: 4 | H33: =ROUND((F33*G33),2) -> 0
D34: ='Insumos '!B16 -> Assistente Social Pleno | E34: hora | F34: ='Insumos '!H16 -> 0 | G34: 8 | H34: =ROUND((F34*G34),2) -> 0
D35: =D30 -> Digitador | E35: hora | F35: ='Insumos '!H17 -> 0 | G35: 4 | H35: =ROUND((F35*G35),2) -> 0
C36: Produto 8: Planta de Selagem e Congelamento Georreferenciados | D36: ='Insumos '!B10 -> Coordenador Geral | E36: hora | F36: ='Insumos '!H10 -> 0 | G36: 2 | H36: =ROUND((F36*G36),2) -> 0 | I36: =SUM(H36:H39) -> 0 | J36: =I36 -> 0
D37: =D9 -> Arquiteto Sênior | E37: hora | F37: ='Insumos '!H11 -> 0 | G37: 7 | H37: =ROUND((F37*G37),2) -> 0
D38: ='Insumos '!B13 -> Desenhista Projetista | E38: hora | F38: ='Insumos '!H13 -> 0 | G38: 15 | H38: =ROUND((F38*G38),2) -> 0
D39: =D34 -> Assistente Social Pleno | E39: hora | F39: ='Insumos '!H16 -> 0 | G39: 30 | H39: =ROUND((F39*G39),2) -> 0
C40: Produto 9: Relatório de Cadastro de Beneficiários | D40: ='Insumos '!B10 -> Coordenador Geral | E40: hora | F40: ='Insumos '!H10 -> 0 | G40: 2 | H40: =ROUND((F40*G40),2) -> 0 | I40: =SUM(H40:H44) -> 0 | J40: =I40 -> 0
...

Sheet CALIFÓRNIA 
B1: ANEXO VIII – Modelo de Planilha de Proposta
B2: EMPRESA:
B3: CNPJ:
B4: REGULARIZAÇÃO FUNDIÁRIA DE NÚCLEOS DIVERSOS (1.051 Matrículas)
B5: PLANILHA ORÇAMENTÁRIA POR NÚCLEOS
B6: CALIFÓRNIA
B7: Etapa | C7: Produto | D7: Insumos | E7: Unid. | F7: Preço de Venda | G7: Quantidade | H7: Valor Parcial | I7: Subtotal por Produto
B8: ETAPA I: SUBSÍDIOS TÉCNICOS PARA A REGULARIZAÇÃO FUNDIÁRIA | C8: Produto 1: Relatório de Análise Técnica Preliminar de Núcleos Urbanos Informais | D8: ='Insumos '!B10 -> Coordenador Geral | E8: hora | F8: ='Insumos '!H10 -> 0 | G8: 15 | H8: =ROUND((F8*G8),2) -> 0 | I8: =SUM(H8:H11) -> 0 | J8: =I8 -> 0
D9: ='Insumos '!B11 -> Arquiteto Sênior | E9: hora | F9: ='Insumos '!H11 -> 0 | G9: 33 | H9: =ROUND((F9*G9),2) -> 0
D10: ='Insumos '!B12 -> Arquiteto Pleno | E10: hora | F10: ='Insumos '!H12 -> 0 | G10: 43 | H10: =ROUND((F10*G10),2) -> 0
D11: ='Insumos '!B17 -> Digitador | E11: hora | F11: ='Insumos '!H17 -> 0 | G11: 33 | H11: =ROUND((F11*G11),2) -> 0
C12: Produto 2: Vistoria, Busca Documental e Relatório Fotográfico | D12: ='Insumos '!B10 -> Coordenador Geral | E12: hora | F12: ='Insumos '!H10 -> 0 | G12: 2 | H12: =ROUND((F12*G12),2) -> 0 | I12: =SUM(H12:H16) -> 0 | J12: =I12 -> 0
D13: =D9 -> Arquiteto Sênior | E13: hora | F13: ='Insumos '!H11 -> 0 | G13: 4 | H13: =ROUND((F13*G13),2) -> 0
D14: ='Insumos '!B14 -> Advogado Sênior | E14: hora | F14: ='Insumos '!H14 -> 0 | G14: 8 | H14: =ROUND((F14*G14),2) -> 0
D15: =D10 -> Arquiteto Pleno | E15: hora | F15: ='Insumos '!H12 -> 0 | G15: 12 | H15: =ROUND((F15*G15),2) -> 0
D16: ='Insumos '!B15 -> Auxiliar de Serviços Gerais | E16: hora | F16: ='Insumos '!H15 -> 0 | G16: 12 | H16: =ROUND((F16*G16),2) -> 0
C17: Produto 3: Diagnóstico | D17: ='Insumos '!B10 -> Coordenador Geral | E17: hora | F17: ='Insumos '!H10 -> 0 | G17: 7 | H17: =ROUND((F17*G17),2) -> 0 | I17: =SUM(H17:H20) -> 0 | J17: =I17 -> 0
D18: =D9 -> Arquiteto Sênior | E18: hora | F18: ='Insumos '!H11 -> 0 | G18: 18 | H18: =ROUND((F18*G18),2) -> 0
D19: =D14 -> Advogado Sênior | E19: hora | F19: ='Insumos '!H14 -> 0 | G19: 30 | H19: =ROUND((F19*G19),2) -> 0
D20: =D11 -> Digitador | E20: hora | F20: ='Insumos '!H17 -> 0 | G20: 19 | H20: =ROUND((F20*G20),2) -> 0
C21: Produto 4: Relatório de Levantamentos Planialtimétricos e Cadastrais | D21: ='Insumos '!B20 -> Levantamento Planialtimétrico Cadastral | E21: m² | F21: ='Insumos '!H20 -> 0 | G21: 18198 | H21: =ROUND((F21*G21),2) -> 0 | I21: =SUM(H21) -> 0 | J21: =I21 -> 0
C22: Produto 5: Plano de Regularização | D22: ='Insumos '!B10 -> Coordenador Geral | E22: hora | F22: ='Insumos '!H10 -> 0 | G22: 6 | H22: =ROUND((F22*G22),2) -> 0 | I22: =SUM(H22:H25) -> 0 | J22: =I22 -> 0
D23: =D9 -> Arquiteto Sênior | E23: hora | F23: ='Insumos '!H11 -> 0 | G23: 19 | H23: =ROUND((F23*G23),2) -> 0
D24: =D14 -> Advogado Sênior | E24: hora | F24: ='Insumos '!H14 -> 0 | G24: 30 | H24: =ROUND((F24*G24),2) -> 0
D25: =D11 -> Digitador | E25: hora | F25: ='Insumos '!H17 -> 0 | G25: 19 | H25: =ROUND((F25*G25),2) -> 0
C26: Produto 6: Relatório Consolidado de Notificações | D26: ='Insumos '!B10 -> Coordenador Geral | E26: hora | F26: ='Insumos '!H10 -> 0 | G26: 1 | H26: =ROUND((F26*G26),2) -> 0 | I26: =SUM(H26:H30) -> 0 | J26: =I26 -> 0
D27: =D9 -> Arquiteto Sênior | E27: hora | F27: ='Insumos '!H11 -> 0 | G27: 6 | H27: =ROUND((F27*G27),2) -> 0
D28: =D24 -> Advogado Sênior | E28: hora | F28: ='Insumos '!H14 -> 0 | G28: 9 | H28: =ROUND((F28*G28),2) -> 0
D29: =D16 -> Auxiliar de Serviços Gerais | E29: hora | F29: ='Insumos '!H15 -> 0 | G29: 5 | H29: =ROUND((F29*G29),2) -> 0
D30: =D25 -> Digitador | E30: hora | F30: ='Insumos '!H17 -> 0 | G30: 12 | H30: =ROUND((F30*G30),2) -> 0
C31: Produto 7: Relatório de Registro de Reuniões de Entrada | D31: ='Insumos '!B10 -> Coordenador Geral | E31: hora | F31: ='Insumos '!H10 -> 0 | G31: 1 | H31: =ROUND((F31*G31),2) -> 0 | I31: =SUM(H31:H35) -> 0 | J31: =I31 -> 0
D32: =D9 -> Arquiteto Sênior | E32: hora | F32: ='Insumos '!H11 -> 0 | G32: 4 | H32: =ROUND((F32*G32),2) -> 0
D33: =D28 -> Advogado Sênior | E33: hora | F33: ='Insumos '!H14 -> 0 | G33: 13 | H33: =ROUND((F33*G33),2) -> 0
D34: ='Insumos '!B16 -> Assistente Social Pleno | E34: hora | F34: ='Insumos '!H16 -> 0 | G34: 28 | H34: =ROUND((F34*G34),2) -> 0
D35: =D30 -> Digitador | E35: hora | F35: ='Insumos '!H17 -> 0 | G35: 12 | H35: =ROUND((F35*G35),2) -> 0
C36: Produto 8: Planta de Selagem e Congelamento Georreferenciados | D36: ='Insumos '!B10 -> Coordenador Geral | E36: hora | F36: ='Insumos '!H10 -> 0 | G36: 5 | H36: =ROUND((F36*G36),2) -> 0 | I36: =SUM(H36:H39) -> 0 | J36: =I36 -> 0
D37: =D9 -> Arquiteto Sênior | E37: hora | F37: ='Insumos '!H11 -> 0 | G37: 25 | H37: =ROUND((F37*G37),2) -> 0
D38: ='Insumos '!B13 -> Desenhista Projetista | E38: hora | F38: ='Insumos '!H13 -> 0 | G38: 50 | H38: =ROUND((F38*G38),2) -> 0
D39: =D34 -> Assistente Social Pleno | E39: hora | F39: ='Insumos '!H16 -> 0 | G39: 99 | H39: =ROUND((F39*G39),2) -> 0
C40: Produto 9: Relatório de Cadastro de Beneficiários | D40: ='Insumos '!B10 -> Coordenador Geral | E40: hora | F40: ='Insumos '!H10 -> 0 | G40: 8 | H40: =ROUND((F40*G40),2) -> 0 | I40: =SUM(H40:H44) -> 0 | J40: =I40 -> 0
...

Sheet CARLOS DRUMMOND DE ANDRADE
B1: ANEXO VIII– Modelo de Planilha de Proposta
B2: EMPRESA:
B3: CNPJ:
B4: REGULARIZAÇÃO FUNDIÁRIA DE NÚCLEOS DIVERSOS (1.051 Matrículas)
B5: PLANILHA ORÇAMENTÁRIA POR NÚCLEOS
B6: CARLOS DRUMMOND DE ANDRADE
B7: Etapa | C7: Produto | D7: Insumos | E7: Unid. | F7: Preço de Venda | G7: Quantidade | H7: Valor Parcial | I7: Subtotal por Produto
B8: ETAPA I: SUBSÍDIOS TÉCNICOS PARA A REGULARIZAÇÃO FUNDIÁRIA | C8: Produto 1: Relatório de Análise Técnica Preliminar de Núcleos Urbanos Informais | D8: ='Insumos '!B10 -> Coordenador Geral | E8: hora | F8: ='Insumos '!H10 -> 0 | G8: 10 | H8: =ROUND((F8*G8),2) -> 0 | I8: =SUM(H8:H11) -> 0 | J8: =I8 -> 0
D9: ='Insumos '!B11 -> Arquiteto Sênior | E9: hora | F9: ='Insumos '!H11 -> 0 | G9: 21 | H9: =ROUND((F9*G9),2) -> 0
D10: ='Insumos '!B12 -> Arquiteto Pleno | E10: hora | F10: ='Insumos '!H12 -> 0 | G10: 26 | H10: =ROUND((F10*G10),2) -> 0
D11: ='Insumos '!B17 -> Digitador | E11: hora | F11: ='Insumos '!H17 -> 0 | G11: 21 | H11: =ROUND((F11*G11),2) -> 0
C12: Produto 2: Vistoria, Busca Documental e Relatório Fotográfico | D12: ='Insumos '!B10 -> Coordenador Geral | E12: hora | F12: ='Insumos '!H10 -> 0 | G12: 2 | H12: =ROUND((F12*G12),2) -> 0 | I12: =SUM(H12:H16) -> 0 | J12: =I12 -> 0
D13: =D9 -> Arquiteto Sênior | E13: hora | F13: ='Insumos '!H11 -> 0 | G13: 3 | H13: =ROUND((F13*G13),2) -> 0
D14: ='Insumos '!B14 -> Advogado Sênior | E14: hora | F14: ='Insumos '!H14 -> 0 | G14: 6 | H14: =ROUND((F14*G14),2) -> 0
D15: =D10 -> Arquiteto Pleno | E15: hora | F15: ='Insumos '!H12 -> 0 | G15: 7 | H15: =ROUND((F15*G15),2) -> 0
D16: ='Insumos '!B15 -> Auxiliar de Serviços Gerais | E16: hora | F16: ='Insumos '!H15 -> 0 | G16: 7 | H16: =ROUND((F16*G16),2) -> 0
C17: Produto 3: Diagnóstico | D17: ='Insumos '!B10 -> Coordenador Geral | E17: hora | F17: ='Insumos '!H10 -> 0 | G17: 5 | H17: =ROUND((F17*G17),2) -> 0 | I17: =SUM(H17:H20) -> 0 | J17: =I17 -> 0
D18: =D9 -> Arquiteto Sênior | E18: hora | F18: ='Insumos '!H11 -> 0 | G18: 11 | H18: =ROUND((F18*G18),2) -> 0
D19: =D14 -> Advogado Sênior | E19: hora | F19: ='Insumos '!H14 -> 0 | G19: 20 | H19: =ROUND((F19*G19),2) -> 0
D20: =D11 -> Digitador | E20: hora | F20: ='Insumos '!H17 -> 0 | G20: 13 | H20: =ROUND((F20*G20),2) -> 0
C21: Produto 4: Relatório de Levantamentos Planialtimétricos e Cadastrais | D21: ='Insumos '!B20 -> Levantamento Planialtimétrico Cadastral | E21: m² | F21: ='Insumos '!H20 -> 0 | G21: 11531 | H21: =ROUND((F21*G21),2) -> 0 | I21: =SUM(H21) -> 0 | J21: =I21 -> 0
C22: Produto 5: Plano de Regularização | D22: ='Insumos '!B10 -> Coordenador Geral | E22: hora | F22: ='Insumos '!H10 -> 0 | G22: 3 | H22: =ROUND((F22*G22),2) -> 0 | I22: =SUM(H22:H25) -> 0 | J22: =I22 -> 0
D23: =D9 -> Arquiteto Sênior | E23: hora | F23: ='Insumos '!H11 -> 0 | G23: 13 | H23: =ROUND((F23*G23),2) -> 0
D24: =D14 -> Advogado Sênior | E24: hora | F24: ='Insumos '!H14 -> 0 | G24: 18 | H24: =ROUND((F24*G24),2) -> 0
D25: =D11 -> Digitador | E25: hora | F25: ='Insumos '!H17 -> 0 | G25: 13 | H25: =ROUND((F25*G25),2) -> 0
C26: Produto 6: Relatório Consolidado de Notificações | D26: ='Insumos '!B10 -> Coordenador Geral | E26: hora | F26: ='Insumos '!H10 -> 0 | G26: 1 | H26: =ROUND((F26*G26),2) -> 0 | I26: =SUM(H26:H30) -> 0 | J26: =I26 -> 0
D27: =D9 -> Arquiteto Sênior | E27: hora | F27: ='Insumos '!H11 -> 0 | G27: 3 | H27: =ROUND((F27*G27),2) -> 0
D28: =D24 -> Advogado Sênior | E28: hora | F28: ='Insumos '!H14 -> 0 | G28: 5 | H28: =ROUND((F28*G28),2) -> 0
D29: =D16 -> Auxiliar de Serviços Gerais | E29: hora | F29: ='Insumos '!H15 -> 0 | G29: 4 | H29: =ROUND((F29*G29),2) -> 0
D30: =D25 -> Digitador | E30: hora | F30: ='Insumos '!H17 -> 0 | G30: 7 | H30: =ROUND((F30*G30),2) -> 0
C31: Produto 7: Relatório de Registro de Reuniões de Entrada | D31: ='Insumos '!B10 -> Coordenador Geral | E31: hora | F31: ='Insumos '!H10 -> 0 | G31: 1 | H31: =ROUND((F31*G31),2) -> 0 | I31: =SUM(H31:H35) -> 0 | J31: =I31 -> 0
D32: =D9 -> Arquiteto Sênior | E32: hora | F32: ='Insumos '!H11 -> 0 | G32: 4 | H32: =ROUND((F32*G32),2) -> 0
D33: =D28 -> Advogado Sênior | E33: hora | F33: ='Insumos '!H14 -> 0 | G33: 11 | H33: =ROUND((F33*G33),2) -> 0
D34: ='Insumos '!B16 -> Assistente Social Pleno | E34: hora | F34: ='Insumos '!H16 -> 0 | G34: 19 | H34: =ROUND((F34*G34),2) -> 0
D35: =D30 -> Digitador | E35: hora | F35: ='Insumos '!H17 -> 0 | G35: 9 | H35: =ROUND((F35*G35),2) -> 0
C36: Produto 8: Planta de Selagem e Congelamento Georreferenciados | D36: ='Insumos '!B10 -> Coordenador Geral | E36: hora | F36: ='Insumos '!H10 -> 0 | G36: 5 | H36: =ROUND((F36*G36),2) -> 0 | I36: =SUM(H36:H39) -> 0 | J36: =I36 -> 0
D37: =D9 -> Arquiteto Sênior | E37: hora | F37: ='Insumos '!H11 -> 0 | G37: 18 | H37: =ROUND((F37*G37),2) -> 0
D38: ='Insumos '!B13 -> Desenhista Projetista | E38: hora | F38: ='Insumos '!H13 -> 0 | G38: 35 | H38: =ROUND((F38*G38),2) -> 0
D39: =D34 -> Assistente Social Pleno | E39: hora | F39: ='Insumos '!H16 -> 0 | G39: 71 | H39: =ROUND((F39*G39),2) -> 0
C40: Produto 9: Relatório de Cadastro de Beneficiários | D40: ='Insumos '!B10 -> Coordenador Geral | E40: hora | F40: ='Insumos '!H10 -> 0 | G40: 6 | H40: =ROUND((F40*G40),2) -> 0 | I40: =SUM(H40:H44) -> 0 | J40: =I40 -> 0
...

Sheet IMBUÍA
B1: ANEXO VIII – Modelo de Planilha de Proposta
B2: EMPRESA:
B3: CNPJ:
B4: REGULARIZAÇÃO FUNDIÁRIA DE NÚCLEOS DIVERSOS (1.051 Matrículas)
B5: PLANILHA ORÇAMENTÁRIA POR NÚCLEOS
B6: IMBUÍA
B7: Etapa | C7: Produto | D7: Insumos | E7: Unid. | F7: Preço de Venda | G7: Quantidade | H7: Valor Parcial | I7: Subtotal por Produto
B8: ETAPA I: SUBSÍDIOS TÉCNICOS PARA A REGULARIZAÇÃO FUNDIÁRIA | C8: Produto 1: Relatório de Análise Técnica Preliminar de Núcleos Urbanos Informais | D8: ='Insumos '!B10 -> Coordenador Geral | E8: hora | F8: ='Insumos '!H10 -> 0 | G8: 7 | H8: =ROUND((F8*G8),2) -> 0 | I8: =SUM(H8:H11) -> 0
D9: ='Insumos '!B11 -> Arquiteto Sênior | E9: hora | F9: ='Insumos '!H11 -> 0 | G9: 14 | H9: =ROUND((F9*G9),2) -> 0
D10: ='Insumos '!B12 -> Arquiteto Pleno | E10: hora | F10: ='Insumos '!H12 -> 0 | G10: 18 | H10: =ROUND((F10*G10),2) -> 0
D11: ='Insumos '!B17 -> Digitador | E11: hora | F11: ='Insumos '!H17 -> 0 | G11: 14 | H11: =ROUND((F11*G11),2) -> 0
C12: Produto 2: Vistoria, Busca Documental e Relatório Fotográfico | D12: ='Insumos '!B10 -> Coordenador Geral | E12: hora | F12: ='Insumos '!H10 -> 0 | G12: 1 | H12: =ROUND((F12*G12),2) -> 0 | I12: =SUM(H12:H16) -> 0
D13: =D9 -> Arquiteto Sênior | E13: hora | F13: ='Insumos '!H11 -> 0 | G13: 2 | H13: =ROUND((F13*G13),2) -> 0
D14: ='Insumos '!B14 -> Advogado Sênior | E14: hora | F14: ='Insumos '!H14 -> 0 | G14: 4 | H14: =ROUND((F14*G14),2) -> 0
D15: =D10 -> Arquiteto Pleno | E15: hora | F15: ='Insumos '!H12 -> 0 | G15: 5 | H15: =ROUND((F15*G15),2) -> 0
D16: ='Insumos '!B15 -> Auxiliar de Serviços Gerais | E16: hora | F16: ='Insumos '!H15 -> 0 | G16: 5 | H16: =ROUND((F16*G16),2) -> 0
C17: Produto 3: Diagnóstico | D17: ='Insumos '!B10 -> Coordenador Geral | E17: hora | F17: ='Insumos '!H10 -> 0 | G17: 3 | H17: =ROUND((F17*G17),2) -> 0 | I17: =SUM(H17:H20) -> 0
D18: =D9 -> Arquiteto Sênior | E18: hora | F18: ='Insumos '!H11 -> 0 | G18: 7 | H18: =ROUND((F18*G18),2) -> 0
D19: =D14 -> Advogado Sênior | E19: hora | F19: ='Insumos '!H14 -> 0 | G19: 13 | H19: =ROUND((F19*G19),2) -> 0
D20: =D11 -> Digitador | E20: hora | F20: ='Insumos '!H17 -> 0 | G20: 9 | H20: =ROUND((F20*G20),2) -> 0
C21: Produto 4: Relatório de Levantamentos Planialtimétricos e Cadastrais | D21: ='Insumos '!B20 -> Levantamento Planialtimétrico Cadastral | E21: m² | F21: ='Insumos '!H20 -> 0 | G21: 7658 | H21: =ROUND((F21*G21),2) -> 0 | I21: =SUM(H21) -> 0
C22: Produto 5: Plano de Regularização | D22: ='Insumos '!B10 -> Coordenador Geral | E22: hora | F22: ='Insumos '!H10 -> 0 | G22: 2 | H22: =ROUND((F22*G22),2) -> 0 | I22: =SUM(H22:H25) -> 0
D23: =D9 -> Arquiteto Sênior | E23: hora | F23: ='Insumos '!H11 -> 0 | G23: 9 | H23: =ROUND((F23*G23),2) -> 0
D24: =D14 -> Advogado Sênior | E24: hora | F24: ='Insumos '!H14 -> 0 | G24: 12 | H24: =ROUND((F24*G24),2) -> 0
D25: =D11 -> Digitador | E25: hora | F25: ='Insumos '!H17 -> 0 | G25: 9 | H25: =ROUND((F25*G25),2) -> 0
C26: Produto 6: Relatório Consolidado de Notificações | D26: ='Insumos '!B10 -> Coordenador Geral | E26: hora | F26: ='Insumos '!H10 -> 0 | G26: 1 | H26: =ROUND((F26*G26),2) -> 0 | I26: =SUM(H26:H30) -> 0
D27: =D9 -> Arquiteto Sênior | E27: hora | F27: ='Insumos '!H11 -> 0 | G27: 2 | H27: =ROUND((F27*G27),2) -> 0
D28: =D24 -> Advogado Sênior | E28: hora | F28: ='Insumos '!H14 -> 0 | G28: 4 | H28: =ROUND((F28*G28),2) -> 0
D29: =D16 -> Auxiliar de Serviços Gerais | E29: hora | F29: ='Insumos '!H15 -> 0 | G29: 2 | H29: =ROUND((F29*G29),2) -> 0
D30: =D25 -> Digitador | E30: hora | F30: ='Insumos '!H17 -> 0 | G30: 5 | H30: =ROUND((F30*G30),2) -> 0
C31: Produto 7: Relatório de Registro de Reuniões de Entrada | D31: ='Insumos '!B10 -> Coordenador Geral | E31: hora | F31: ='Insumos '!H10 -> 0 | G31: 1 | H31: =ROUND((F31*G31),2) -> 0 | I31: =SUM(H31:H35) -> 0
D32: =D9 -> Arquiteto Sênior | E32: hora | F32: ='Insumos '!H11 -> 0 | G32: 4 | H32: =ROUND((F32*G32),2) -> 0
D33: =D28 -> Advogado Sênior | E33: hora | F33: ='Insumos '!H14 -> 0 | G33: 11 | H33: =ROUND((F33*G33),2) -> 0
D34: ='Insumos '!B16 -> Assistente Social Pleno | E34: hora | F34: ='Insumos '!H16 -> 0 | G34: 20 | H34: =ROUND((F34*G34),2) -> 0
D35: =D30 -> Digitador | E35: hora | F35: ='Insumos '!H17 -> 0 | G35: 9 | H35: =ROUND((F35*G35),2) -> 0
C36: Produto 8: Planta de Selagem e Congelamento Georreferenciados | D36: ='Insumos '!B10 -> Coordenador Geral | E36: hora | F36: ='Insumos '!H10 -> 0 | G36: 5 | H36: =ROUND((F36*G36),2) -> 0 | I36: =SUM(H36:H39) -> 0
D37: =D9 -> Arquiteto Sênior | E37: hora | F37: ='Insumos '!H11 -> 0 | G37: 18 | H37: =ROUND((F37*G37),2) -> 0
D38: ='Insumos '!B13 -> Desenhista Projetista | E38: hora | F38: ='Insumos '!H13 -> 0 | G38: 36 | H38: =ROUND((F38*G38),2) -> 0
D39: =D34 -> Assistente Social Pleno | E39: hora | F39: ='Insumos '!H16 -> 0 | G39: 72 | H39: =ROUND((F39*G39),2) -> 0
C40: Produto 9: Relatório de Cadastro de Beneficiários | D40: ='Insumos '!B10 -> Coordenador Geral | E40: hora | F40: ='Insumos '!H10 -> 0 | G40: 6 | H40: =ROUND((F40*G40),2) -> 0 | I40: =SUM(H40:H44) -> 0
...

Sheet LOURIVAL DE ALMEIDA
B1: ANEXO VIII – Modelo de Planilha de Proposta
B2: EMPRESA:
B3: CNPJ:
B4: REGULARIZAÇÃO FUNDIÁRIA DE NÚCLEOS DIVERSOS (1.051 Matrículas)
B5: PLANILHA ORÇAMENTÁRIA POR NÚCLEOS
B6: LOURIVAL DE ALMEIDA
B7: Etapa | C7: Produto | D7: Insumos | E7: Unid. | F7: Preço de Venda | G7: Quantidade | H7: Valor Parcial | I7: Subtotal por Produto
B8: ETAPA I: SUBSÍDIOS TÉCNICOS PARA A REGULARIZAÇÃO FUNDIÁRIA | C8: Produto 1: Relatório de Análise Técnica Preliminar de Núcleos Urbanos Informais | D8: ='Insumos '!B10 -> Coordenador Geral | E8: hora | F8: ='Insumos '!H10 -> 0 | G8: 3 | H8: =ROUND((F8*G8),2) -> 0 | I8: =SUM(H8:H11) -> 0
D9: ='Insumos '!B11 -> Arquiteto Sênior | E9: hora | F9: ='Insumos '!H11 -> 0 | G9: 6 | H9: =ROUND((F9*G9),2) -> 0
D10: ='Insumos '!B12 -> Arquiteto Pleno | E10: hora | F10: ='Insumos '!H12 -> 0 | G10: 7 | H10: =ROUND((F10*G10),2) -> 0
D11: ='Insumos '!B17 -> Digitador | E11: hora | F11: ='Insumos '!H17 -> 0 | G11: 6 | H11: =ROUND((F11*G11),2) -> 0
C12: Produto 2: Vistoria, Busca Documental e Relatório Fotográfico | D12: ='Insumos '!B10 -> Coordenador Geral | E12: hora | F12: ='Insumos '!H10 -> 0 | G12: 1 | H12: =ROUND((F12*G12),2) -> 0 | I12: =SUM(H12:H16) -> 0
D13: =D9 -> Arquiteto Sênior | E13: hora | F13: ='Insumos '!H11 -> 0 | G13: 1 | H13: =ROUND((F13*G13),2) -> 0
D14: ='Insumos '!B14 -> Advogado Sênior | E14: hora | F14: ='Insumos '!H14 -> 0 | G14: 2 | H14: =ROUND((F14*G14),2) -> 0
D15: =D10 -> Arquiteto Pleno | E15: hora | F15: ='Insumos '!H12 -> 0 | G15: 2 | H15: =ROUND((F15*G15),2) -> 0
D16: ='Insumos '!B15 -> Auxiliar de Serviços Gerais | E16: hora | F16: ='Insumos '!H15 -> 0 | G16: 2 | H16: =ROUND((F16*G16),2) -> 0
C17: Produto 3: Diagnóstico | D17: ='Insumos '!B10 -> Coordenador Geral | E17: hora | F17: ='Insumos '!H10 -> 0 | G17: 1 | H17: =ROUND((F17*G17),2) -> 0 | I17: =SUM(H17:H20) -> 0
D18: =D9 -> Arquiteto Sênior | E18: hora | F18: ='Insumos '!H11 -> 0 | G18: 3 | H18: =ROUND((F18*G18),2) -> 0
D19: =D14 -> Advogado Sênior | E19: hora | F19: ='Insumos '!H14 -> 0 | G19: 5 | H19: =ROUND((F19*G19),2) -> 0
D20: =D11 -> Digitador | E20: hora | F20: ='Insumos '!H17 -> 0 | G20: 4 | H20: =ROUND((F20*G20),2) -> 0
C21: Produto 4: Relatório de Levantamentos Planialtimétricos e Cadastrais | D21: ='Insumos '!B20 -> Levantamento Planialtimétrico Cadastral | E21: m² | F21: ='Insumos '!H20 -> 0 | G21: 3072 | H21: =ROUND((F21*G21),2) -> 0 | I21: =SUM(H21) -> 0
C22: Produto 5: Plano de Regularização | D22: ='Insumos '!B10 -> Coordenador Geral | E22: hora | F22: ='Insumos '!H10 -> 0 | G22: 1 | H22: =ROUND((F22*G22),2) -> 0 | I22: =SUM(H22:H25) -> 0
D23: =D9 -> Arquiteto Sênior | E23: hora | F23: ='Insumos '!H11 -> 0 | G23: 4 | H23: =ROUND((F23*G23),2) -> 0
D24: =D14 -> Advogado Sênior | E24: hora | F24: ='Insumos '!H14 -> 0 | G24: 5 | H24: =ROUND((F24*G24),2) -> 0
D25: =D11 -> Digitador | E25: hora | F25: ='Insumos '!H17 -> 0 | G25: 4 | H25: =ROUND((F25*G25),2) -> 0
C26: Produto 6: Relatório Consolidado de Notificações | D26: ='Insumos '!B10 -> Coordenador Geral | E26: hora | F26: ='Insumos '!H10 -> 0 | G26: 1 | H26: =ROUND((F26*G26),2) -> 0 | I26: =SUM(H26:H30) -> 0
D27: =D9 -> Arquiteto Sênior | E27: hora | F27: ='Insumos '!H11 -> 0 | G27: 1 | H27: =ROUND((F27*G27),2) -> 0
D28: =D24 -> Advogado Sênior | E28: hora | F28: ='Insumos '!H14 -> 0 | G28: 1 | H28: =ROUND((F28*G28),2) -> 0
D29: =D16 -> Auxiliar de Serviços Gerais | E29: hora | F29: ='Insumos '!H15 -> 0 | G29: 1 | H29: =ROUND((F29*G29),2) -> 0
D30: =D25 -> Digitador | E30: hora | F30: ='Insumos '!H17 -> 0 | G30: 2 | H30: =ROUND((F30*G30),2) -> 0
C31: Produto 7: Relatório de Registro de Reuniões de Entrada | D31: ='Insumos '!B10 -> Coordenador Geral | E31: hora | F31: ='Insumos '!H10 -> 0 | G31: 1 | H31: =ROUND((F31*G31),2) -> 0 | I31: =SUM(H31:H35) -> 0
D32: =D9 -> Arquiteto Sênior | E32: hora | F32: ='Insumos '!H11 -> 0 | G32: 1 | H32: =ROUND((F32*G32),2) -> 0
D33: =D28 -> Advogado Sênior | E33: hora | F33: ='Insumos '!H14 -> 0 | G33: 4 | H33: =ROUND((F33*G33),2) -> 0
D34: ='Insumos '!B16 -> Assistente Social Pleno | E34: hora | F34: ='Insumos '!H16 -> 0 | G34: 6 | H34: =ROUND((F34*G34),2) -> 0
D35: =D30 -> Digitador | E35: hora | F35: ='Insumos '!H17 -> 0 | G35: 3 | H35: =ROUND((F35*G35),2) -> 0
C36: Produto 8: Planta de Selagem e Congelamento Georreferenciados | D36: ='Insumos '!B10 -> Coordenador Geral | E36: hora | F36: ='Insumos '!H10 -> 0 | G36: 2 | H36: =ROUND((F36*G36),2) -> 0 | I36: =SUM(H36:H39) -> 0
D37: =D9 -> Arquiteto Sênior | E37: hora | F37: ='Insumos '!H11 -> 0 | G37: 6 | H37: =ROUND((F37*G37),2) -> 0
D38: ='Insumos '!B13 -> Desenhista Projetista | E38: hora | F38: ='Insumos '!H13 -> 0 | G38: 12 | H38: =ROUND((F38*G38),2) -> 0
